BEGIN:VCALENDAR
VERSION:2.0
PRODID:-//eventon.com NONSGML v1.0//EN
CALSCALE:GREGORIAN
METHOD:PUBLISH
BEGIN:VEVENT
UID:69e9e03663a6d
DTSTAMP:20260423T090246Z
DTSTART:20250418T173000Z
DTEND:20250418T193000Z
LOCATION:
SUMMARY:Sensory Night
DESCRIPTION:Sensory night takes place at both EdVenture locations. Enjoy al
 l the museum has to offer in a sensory friendly environment!  Reduced ligh
 ting Limited crowd size Educational programming Resources for parents Advan
 ced registration is required. Click here.\nhttps://edventure.org/events/sen
 sory-nights/
URL:https://edventure.org/events/sensory-nights/
END:VEVENT
END:VCALENDAR