BEGIN:VCALENDAR
VERSION:2.0
PRODID:-//eventon.com NONSGML v1.0//EN
CALSCALE:GREGORIAN
METHOD:PUBLISH
BEGIN:VEVENT
UID:69ebbea24c8ef
DTSTAMP:20260424T190402Z
DTSTART:20260516T110000Z
DTEND:20260516T130000Z
LOCATION:
SUMMARY:Maker Saturday: Canopy Creations- Columbia
DESCRIPTION:Columbia Location Join us most Saturday’s in May for Maker Sa
 turdays at EdVenture! These hands-on pop-ups invite guests to get creative\
 ,  explore new skills\,  and dive into the world of making through fun\,  g
 uided activities. Each session runs from 11:00–11:45 AM and 12:15–1:
 00 PM\,  with locations varying throughout the museum. May 16 –[..]\nhttp
 s://edventure.org/events/maker-saturday-canopy-creations-columbia-location/
URL:https://edventure.org/events/maker-saturday-canopy-creations-columbia-location/
END:VEVENT
END:VCALENDAR