BEGIN:VCALENDAR
VERSION:2.0
PRODID:-//eventon.com NONSGML v1.0//EN
CALSCALE:GREGORIAN
METHOD:PUBLISH
BEGIN:VEVENT
UID:69e762863d6b0
DTSTAMP:20260421T114158Z
DTSTART:20260501T190000Z
DTEND:20260501T210000Z
LOCATION:
SUMMARY:Family Friday Pelicans Baseball Game- Myrtle Beach
DESCRIPTION:Myrtle Beach Location  Join EdVenture Myrtle Beach for a fun n
 ight out at the ballpark! We’ll be hosting a table at the Myrtle Beach Pe
 licans baseball game on May 1st at 7 PM as they take on the Columbia Firef
 lies. Stop by during Family Friday to say hello\,  enjoy the game\, [..]\nh
 ttps://edventure.org/events/family-friday-pelicans-baseball-game-myrtle-bea
 ch/
URL:https://edventure.org/events/family-friday-pelicans-baseball-game-myrtle-beach/
END:VEVENT
END:VCALENDAR