BEGIN:VCALENDAR
VERSION:2.0
PRODID:-//eventon.com NONSGML v1.0//EN
CALSCALE:GREGORIAN
METHOD:PUBLISH
BEGIN:VEVENT
UID:69e732165a598
DTSTAMP:20260421T081518Z
DTSTART:20260608T100000Z
DTEND:20260608T150000Z
LOCATION:
SUMMARY:Kickoff To Summer- Myrtle Beach
DESCRIPTION:Myrtle Beach Location School’s almost out\,  and we’re flip
 ping the switch to SUMMER! Join us for our Annual Kickoff to Summer event! 
 Children will enjoy hands-on activity stations filled with crafts\,  games\
 ,  and playful learning\,  all designed to inspire and engage as they prepa
 re for a summer full of fun! \nhttps://edventure.org/events/kickoff-to-sum
 mer-myrtle-beach/
URL:https://edventure.org/events/kickoff-to-summer-myrtle-beach/
END:VEVENT
END:VCALENDAR