BEGIN:VCALENDAR
VERSION:2.0
PRODID:-//eventon.com NONSGML v1.0//EN
CALSCALE:GREGORIAN
METHOD:PUBLISH
BEGIN:VEVENT
UID:69e730c0cc979
DTSTAMP:20260421T080936Z
DTSTART:20250902T090000Z
DTEND:20250930T170000Z
LOCATION:
SUMMARY:Vote for EdVenture in the Chick-fil-A App!
DESCRIPTION:Vote for EdVenture in Chick-fil-A True Inspiration Awards! EdVe
 nture is proud to announce our selection as a regional winner for the Chic
 k-fil-A True Inspiration Awards. The annual grant program recognizes nonpro
 fit organizations that are making a positive impact in their local communit
 ies. As a regional winner\,  we are now being considered[..]\nhttps://edven
 ture.org/events/vote-for-edventure-in-the-chick-fil-a-app/
URL:https://edventure.org/events/vote-for-edventure-in-the-chick-fil-a-app/
END:VEVENT
END:VCALENDAR